BEGIN:VCALENDAR
VERSION:2.0
PRODID:-//Plone.org//NONSGML plone.app.event//EN
X-WR-TIMEZONE:Europe/Madrid
BEGIN:VEVENT
SUMMARY:14a Marxa Popular
DTSTART;TZID=Europe/Madrid;VALUE=DATE-TIME:20120513T080000
DTEND;TZID=Europe/Madrid;VALUE=DATE-TIME:20120513T090000
DTSTAMP;VALUE=DATE-TIME:20260421T223908Z
UID:2ca7745573d8f2297db9c47f383b38d2
CREATED;VALUE=DATE-TIME:20120513T000000Z
LOCATION:Sortida des de Vil·la Flora
ORGANIZER:Moixons Llepafils
COMMENT:Preu: dret d'inscripció 8 euros
URL:https://www.canetdemar.cat/document.php?id=8924
END:VEVENT
END:VCALENDAR