BEGIN:VCALENDAR
VERSION:2.0
PRODID:-//Plone.org//NONSGML plone.app.event//EN
X-WR-TIMEZONE:Europe/Madrid
BEGIN:VEVENT
SUMMARY:Canet obert al món: Japó
DTSTART;TZID=Europe/Madrid;VALUE=DATE-TIME:20021117T100000
DTEND;TZID=Europe/Madrid;VALUE=DATE-TIME:20021117T110000
DTSTAMP;VALUE=DATE-TIME:20260423T100921Z
UID:0bbc20ebae565fd9d409d94f9236bfd4
CREATED;VALUE=DATE-TIME:20021117T000000Z
URL:https://www.canetdemar.cat/document.php?id=89
END:VEVENT
END:VCALENDAR