BEGIN:VCALENDAR
VERSION:2.0
PRODID:-//Plone.org//NONSGML plone.app.event//EN
X-WR-TIMEZONE:Europe/Madrid
BEGIN:VEVENT
SUMMARY:Cloenda de la temporada de ball
DTSTART;TZID=Europe/Madrid;VALUE=DATE-TIME:20120616T213000
DTEND;TZID=Europe/Madrid;VALUE=DATE-TIME:20120616T223000
DTSTAMP;VALUE=DATE-TIME:20260423T065034Z
UID:109521e673035d42498ededb4e65f78a
CREATED;VALUE=DATE-TIME:20120616T000000Z
LOCATION:Envelat de Vil·la Flora
ORGANIZER:Amics del ball
URL:https://www.canetdemar.cat/document.php?id=8872
END:VEVENT
END:VCALENDAR