BEGIN:VCALENDAR
VERSION:2.0
PRODID:-//Plone.org//NONSGML plone.app.event//EN
X-WR-TIMEZONE:Europe/Madrid
BEGIN:VEVENT
SUMMARY:Cine-Fòrum: Happy. Un cuento sobre la felicidad
DTSTART;TZID=Europe/Madrid;VALUE=DATE-TIME:20120525T183000
DTEND;TZID=Europe/Madrid;VALUE=DATE-TIME:20120525T193000
DTSTAMP;VALUE=DATE-TIME:20260424T084119Z
UID:c829584534ab62b4a7bf259c7a90e11c
CREATED;VALUE=DATE-TIME:20120525T000000Z
CATEGORIES:Cinema
LOCATION:Aula Magna CRTTT - Escola de Teixits
ORGANIZER:Sàlvia, Associació de dones de Canet de Mar
COMMENT:Preu: donatiu mínim 3 euros
DESCRIPTION:A favor de la Marató de la pobresa
URL:https://www.canetdemar.cat/document.php?id=8856
END:VEVENT
END:VCALENDAR