BEGIN:VCALENDAR
VERSION:2.0
PRODID:-//Plone.org//NONSGML plone.app.event//EN
X-WR-TIMEZONE:Europe/Madrid
BEGIN:VEVENT
SUMMARY:Ruta modernista: Centre històric i Masia Rocosa
DTSTART;TZID=Europe/Madrid;VALUE=DATE-TIME:20120505T110000
DTEND;TZID=Europe/Madrid;VALUE=DATE-TIME:20120505T120000
DTSTAMP;VALUE=DATE-TIME:20260423T234157Z
UID:062a2c2ac9f71e81038cfa24b3975f66
CREATED;VALUE=DATE-TIME:20120505T000000Z
LOCATION:Casa museu Lluís Domènech i Montaner
ORGANIZER:Casa museu Lluís Domènech i Montaner
COMMENT:Preu: 7 euros, jubilats i estudiants 6 euros, menors de 12 anys gratuït
URL:https://www.canetdemar.cat/document.php?id=8855
END:VEVENT
END:VCALENDAR