BEGIN:VCALENDAR
VERSION:2.0
PRODID:-//Plone.org//NONSGML plone.app.event//EN
X-WR-TIMEZONE:Europe/Madrid
BEGIN:VEVENT
SUMMARY:Exposició "Mirades"
DTSTART;TZID=Europe/Madrid;VALUE=DATE-TIME:20040520T000000
DTEND;TZID=Europe/Madrid;VALUE=DATE-TIME:20040520T010000
DTSTAMP;VALUE=DATE-TIME:20260424T230048Z
UID:5365ce750fe83ca8becd1a974bc7d50a
CREATED;VALUE=DATE-TIME:20040520T000000Z
URL:https://www.canetdemar.cat/document.php?id=878
END:VEVENT
END:VCALENDAR