BEGIN:VCALENDAR
VERSION:2.0
PRODID:-//Plone.org//NONSGML plone.app.event//EN
X-WR-TIMEZONE:Europe/Madrid
BEGIN:VEVENT
SUMMARY:Taller: Creativitat pel suport de l'educació
DTSTART;TZID=Europe/Madrid;VALUE=DATE-TIME:20120417T180000
DTEND;TZID=Europe/Madrid;VALUE=DATE-TIME:20120417T190000
DTSTAMP;VALUE=DATE-TIME:20260423T101838Z
UID:51842c10fe7735b364112f41c6808cf3
CREATED;VALUE=DATE-TIME:20120417T000000Z
LOCATION:Biblioteca de l'IES Domènech i Montaner
ORGANIZER:Àrea d'Educació i AMPA'S
URL:https://www.canetdemar.cat/document.php?id=8731
END:VEVENT
END:VCALENDAR