BEGIN:VCALENDAR
VERSION:2.0
PRODID:-//Plone.org//NONSGML plone.app.event//EN
X-WR-TIMEZONE:Europe/Madrid
BEGIN:VEVENT
SUMMARY:Presentació de Somescola.cat
DTSTART;TZID=Europe/Madrid;VALUE=DATE-TIME:20120518T190000
DTEND;TZID=Europe/Madrid;VALUE=DATE-TIME:20120518T200000
DTSTAMP;VALUE=DATE-TIME:20260424T094249Z
UID:a4e56b160339c833395507b2226dc1bd
CREATED;VALUE=DATE-TIME:20120518T000000Z
CATEGORIES:Conferència
LOCATION:Aula Magna CRTTT - Escola de Teixits
ORGANIZER:Òmnium Cultural Montnegre
DESCRIPTION:Entitats cíviques i educatives per l'escola catalana
URL:https://www.canetdemar.cat/document.php?id=8719
END:VEVENT
END:VCALENDAR