BEGIN:VCALENDAR
VERSION:2.0
PRODID:-//Plone.org//NONSGML plone.app.event//EN
X-WR-TIMEZONE:Europe/Madrid
BEGIN:VEVENT
SUMMARY:10è Vine a fer l'Indi!
DTSTART;TZID=Europe/Madrid;VALUE=DATE-TIME:20120428T000000
DTEND;TZID=Europe/Madrid;VALUE=DATE-TIME:20120428T010000
DTSTAMP;VALUE=DATE-TIME:20260422T232111Z
UID:81198385994dc1f7d5cfc8c233ec1a43
CREATED;VALUE=DATE-TIME:20120428T000000Z
LOCATION:Envelat de Vil·la Flora
ORGANIZER:GEAXXI
URL:https://www.canetdemar.cat/document.php?id=8717
END:VEVENT
END:VCALENDAR