BEGIN:VCALENDAR
VERSION:2.0
PRODID:-//Plone.org//NONSGML plone.app.event//EN
X-WR-TIMEZONE:Europe/Madrid
BEGIN:VEVENT
SUMMARY:Ball a l'envelat
DTSTART;TZID=Europe/Madrid;VALUE=DATE-TIME:20120418T180000
DTEND;TZID=Europe/Madrid;VALUE=DATE-TIME:20120418T190000
DTSTAMP;VALUE=DATE-TIME:20260425T123538Z
UID:958575534f98e3240a991e3861c158b2
CREATED;VALUE=DATE-TIME:20120418T000000Z
LOCATION:Envelat de Vil·la Flora
ORGANIZER:Associació de jubilats i pensionistes de Canet de Mar, Casal de jubilats
COMMENT:Preu: 2 euros
URL:https://www.canetdemar.cat/document.php?id=8705
END:VEVENT
END:VCALENDAR