BEGIN:VCALENDAR
VERSION:2.0
PRODID:-//Plone.org//NONSGML plone.app.event//EN
X-WR-TIMEZONE:Europe/Madrid
BEGIN:VEVENT
SUMMARY:Disco
DTSTART;TZID=Europe/Madrid;VALUE=DATE-TIME:20120317T170000
DTEND;TZID=Europe/Madrid;VALUE=DATE-TIME:20120317T180000
DTSTAMP;VALUE=DATE-TIME:20260424T041038Z
UID:ee9119a9a2acf74c7f9bba8d6cb1642c
CREATED;VALUE=DATE-TIME:20120317T000000Z
CATEGORIES:Festa,Música
LOCATION:Envelat de Vil·la Flora
ORGANIZER:AMPA Sta Rosa de Lima
COMMENT:Preu: 1 euro/Persona
Durada: de 17.00 a 20.00 hores
URL:https://www.canetdemar.cat/document.php?id=8695
END:VEVENT
END:VCALENDAR