BEGIN:VCALENDAR
VERSION:2.0
PRODID:-//Plone.org//NONSGML plone.app.event//EN
X-WR-TIMEZONE:Europe/Madrid
BEGIN:VEVENT
SUMMARY:Fira Mercat d'artesania de Festa Major
DTSTART;TZID=Europe/Madrid;VALUE=DATE-TIME:20120630T100000
DTEND;TZID=Europe/Madrid;VALUE=DATE-TIME:20120630T110000
DTSTAMP;VALUE=DATE-TIME:20260424T194940Z
UID:d9d0534f4e34402a73f13b67498ef898
CREATED;VALUE=DATE-TIME:20120630T000000Z
LOCATION:plaça Universitat
ORGANIZER:Àrea de Promoció Econòmica
COMMENT:Durada: de 10.00 a 24.00 hores
DESCRIPTION:Festa Major 2012
URL:https://www.canetdemar.cat/document.php?id=8662
END:VEVENT
END:VCALENDAR