BEGIN:VCALENDAR
VERSION:2.0
PRODID:-//Plone.org//NONSGML plone.app.event//EN
X-WR-TIMEZONE:Europe/Madrid
BEGIN:VEVENT
SUMMARY:Fira Mercat d'artesania
DTSTART;TZID=Europe/Madrid;VALUE=DATE-TIME:20120505T100000
DTEND;TZID=Europe/Madrid;VALUE=DATE-TIME:20120505T110000
DTSTAMP;VALUE=DATE-TIME:20260421T210324Z
UID:1e8fbb24841c1885821f7543306d936d
CREATED;VALUE=DATE-TIME:20120505T000000Z
LOCATION:plaça Universitat
ORGANIZER:Àrea de Promoció Econòmica
COMMENT:Durada: de 10.00 a 21.00 hores
URL:https://www.canetdemar.cat/document.php?id=8658
END:VEVENT
END:VCALENDAR