BEGIN:VCALENDAR
VERSION:2.0
PRODID:-//Plone.org//NONSGML plone.app.event//EN
X-WR-TIMEZONE:Europe/Madrid
BEGIN:VEVENT
SUMMARY:Fira Mercat d'artesania
DTSTART;TZID=Europe/Madrid;VALUE=DATE-TIME:20120408T100000
DTEND;TZID=Europe/Madrid;VALUE=DATE-TIME:20120408T110000
DTSTAMP;VALUE=DATE-TIME:20260422T235010Z
UID:c24d76fef8a80cd919258d6397cf8bd0
CREATED;VALUE=DATE-TIME:20120408T000000Z
LOCATION:plaça Universitat
ORGANIZER:Àrea de Promoció Econòmica
COMMENT:Durada: de 10.00 a 21.00 hores
URL:https://www.canetdemar.cat/document.php?id=8655
END:VEVENT
END:VCALENDAR