BEGIN:VCALENDAR
VERSION:2.0
PRODID:-//Plone.org//NONSGML plone.app.event//EN
X-WR-TIMEZONE:Europe/Madrid
BEGIN:VEVENT
SUMMARY:Exposició: L'Art de separar l'orgànica
DTSTART;TZID=Europe/Madrid;VALUE=DATE-TIME:20120319T000000
DTEND;TZID=Europe/Madrid;VALUE=DATE-TIME:20120319T010000
DTSTAMP;VALUE=DATE-TIME:20260423T031602Z
UID:c758e5c3036432427a4ab123bfce2224
CREATED;VALUE=DATE-TIME:20120319T000000Z
LOCATION:Sala Municipal d'Exposicions
ORGANIZER:Àrea de Medi Ambient
COMMENT:Durada: del 20 al 22 de març
URL:https://www.canetdemar.cat/document.php?id=8565
END:VEVENT
END:VCALENDAR