BEGIN:VCALENDAR
VERSION:2.0
PRODID:-//Plone.org//NONSGML plone.app.event//EN
X-WR-TIMEZONE:Europe/Madrid
BEGIN:VEVENT
SUMMARY:Tarda de ball a l'Envelat
DTSTART;TZID=Europe/Madrid;VALUE=DATE-TIME:20040523T190000
DTEND;TZID=Europe/Madrid;VALUE=DATE-TIME:20040523T200000
DTSTAMP;VALUE=DATE-TIME:20260423T100851Z
UID:929f47397f484a990b48447fd4a0ce91
CREATED;VALUE=DATE-TIME:20040523T000000Z
URL:https://www.canetdemar.cat/document.php?id=856
END:VEVENT
END:VCALENDAR