BEGIN:VCALENDAR
VERSION:2.0
PRODID:-//Plone.org//NONSGML plone.app.event//EN
X-WR-TIMEZONE:Europe/Madrid
BEGIN:VEVENT
SUMMARY:Fira Mercat d´Artesania
DTSTART;TZID=Europe/Madrid;VALUE=DATE-TIME:20120304T100000
DTEND;TZID=Europe/Madrid;VALUE=DATE-TIME:20120304T110000
DTSTAMP;VALUE=DATE-TIME:20260426T032640Z
UID:bb417338af97f5d66af099d66436c993
CREATED;VALUE=DATE-TIME:20120304T000000Z
LOCATION:plaça Universitat
ORGANIZER:Àrea de Promoció Econòmica
COMMENT:Durada: 3 i 4 de març
URL:https://www.canetdemar.cat/document.php?id=8556
END:VEVENT
END:VCALENDAR