BEGIN:VCALENDAR
VERSION:2.0
PRODID:-//Plone.org//NONSGML plone.app.event//EN
X-WR-TIMEZONE:Europe/Madrid
BEGIN:VEVENT
SUMMARY:Lliurament de premis dels dibuixos del concurs escolar del CAC
DTSTART;TZID=Europe/Madrid;VALUE=DATE-TIME:20040502T120000
DTEND;TZID=Europe/Madrid;VALUE=DATE-TIME:20040502T130000
DTSTAMP;VALUE=DATE-TIME:20260422T072332Z
UID:1611fcca4cb1c3e11c33d8493485418f
CREATED;VALUE=DATE-TIME:20040502T000000Z
URL:https://www.canetdemar.cat/document.php?id=852
END:VEVENT
END:VCALENDAR