BEGIN:VCALENDAR
VERSION:2.0
PRODID:-//Plone.org//NONSGML plone.app.event//EN
X-WR-TIMEZONE:Europe/Madrid
BEGIN:VEVENT
SUMMARY:Cinema: conmemoració Dia Internacional de la Dona Treballadora
DTSTART;TZID=Europe/Madrid;VALUE=DATE-TIME:20120308T190000
DTEND;TZID=Europe/Madrid;VALUE=DATE-TIME:20120308T200000
DTSTAMP;VALUE=DATE-TIME:20260424T230018Z
UID:b18348a03fd36b5a2533b3d93693149e
CREATED;VALUE=DATE-TIME:20120308T000000Z
CATEGORIES:Cinema
LOCATION:Aula Magna CRTTT - Escola de Teixits
ORGANIZER:SÀLVIA, ASSOCIACIÓ DE DONES DE CANET DE MAR
COMMENT:Preu: Gratuït
DESCRIPTION:Projecció de la pel·lícula Las chicas de la lenceria
URL:https://www.canetdemar.cat/document.php?id=8518
END:VEVENT
END:VCALENDAR