BEGIN:VCALENDAR
VERSION:2.0
PRODID:-//Plone.org//NONSGML plone.app.event//EN
X-WR-TIMEZONE:Europe/Madrid
BEGIN:VEVENT
SUMMARY:Presentació del llibre &OpenCurlyDoubleQuote;L´autonomia que ens cal és la de Portugal&CloseCurlyDoubleQuote;
DTSTART;TZID=Europe/Madrid;VALUE=DATE-TIME:20120318T130000
DTEND;TZID=Europe/Madrid;VALUE=DATE-TIME:20120318T140000
DTSTAMP;VALUE=DATE-TIME:20260424T162401Z
UID:6f6f96824c5ac3b5e89823673ed9f8bb
CREATED;VALUE=DATE-TIME:20120318T000000Z
CATEGORIES:Conferència
LOCATION:Aula Magna CRTTT - Escola de Teixits
ORGANIZER:Plataforma per la Llengua Canet de Mar
DESCRIPTION:Amb la seva autora, l´escriptora argentina Patrícia Gabancho
URL:https://www.canetdemar.cat/document.php?id=8515
END:VEVENT
END:VCALENDAR