BEGIN:VCALENDAR
VERSION:2.0
PRODID:-//Plone.org//NONSGML plone.app.event//EN
X-WR-TIMEZONE:Europe/Madrid
BEGIN:VEVENT
SUMMARY:La moral de la senyora Dulska
DTSTART;TZID=Europe/Madrid;VALUE=DATE-TIME:20120401T181500
DTEND;TZID=Europe/Madrid;VALUE=DATE-TIME:20120401T191500
DTSTAMP;VALUE=DATE-TIME:20260426T050056Z
UID:339ca708a846fee50468ea3752ce1d69
CREATED;VALUE=DATE-TIME:20120401T000000Z
LOCATION:Centre Parroquial
ORGANIZER:Centre parroquial
DESCRIPTION:XXXVIIIè Concurs de teatre aficionat Premi Pedracastell
URL:https://www.canetdemar.cat/document.php?id=8461
END:VEVENT
END:VCALENDAR