BEGIN:VCALENDAR
VERSION:2.0
PRODID:-//Plone.org//NONSGML plone.app.event//EN
X-WR-TIMEZONE:Europe/Madrid
BEGIN:VEVENT
SUMMARY:Dijous Gras
DTSTART;TZID=Europe/Madrid;VALUE=DATE-TIME:20120216T200000
DTEND;TZID=Europe/Madrid;VALUE=DATE-TIME:20120216T210000
DTSTAMP;VALUE=DATE-TIME:20260423T201048Z
UID:cee55c084d538830b0bfc01fe8144784
CREATED;VALUE=DATE-TIME:20120216T000000Z
LOCATION:Envelat de Vil·la Flora
ORGANIZER:Àrea de Festes i Comissió del Carnaval
URL:https://www.canetdemar.cat/document.php?id=8429
END:VEVENT
END:VCALENDAR