BEGIN:VCALENDAR
VERSION:2.0
PRODID:-//Plone.org//NONSGML plone.app.event//EN
X-WR-TIMEZONE:Europe/Madrid
BEGIN:VEVENT
SUMMARY:Ball a l´envelat
DTSTART;TZID=Europe/Madrid;VALUE=DATE-TIME:20120201T180000
DTEND;TZID=Europe/Madrid;VALUE=DATE-TIME:20120201T190000
DTSTAMP;VALUE=DATE-TIME:20260422T164158Z
UID:6349fd75293b9cd3125fcdadb9e8fae4
CREATED;VALUE=DATE-TIME:20120201T000000Z
LOCATION:Envelat de Vil·la Flora
ORGANIZER:Associació Jubilats i Pensionistes&mdash;Casal de jublilats
COMMENT:Preu: 2 euros
URL:https://www.canetdemar.cat/document.php?id=8417
END:VEVENT
END:VCALENDAR