BEGIN:VCALENDAR
VERSION:2.0
PRODID:-//Plone.org//NONSGML plone.app.event//EN
X-WR-TIMEZONE:Europe/Madrid
BEGIN:VEVENT
SUMMARY:Hora del conte: Contes per a menuts
DTSTART;TZID=Europe/Madrid;VALUE=DATE-TIME:20120324T120000
DTEND;TZID=Europe/Madrid;VALUE=DATE-TIME:20120324T130000
DTSTAMP;VALUE=DATE-TIME:20260423T082805Z
UID:1b586badf4057186226976c70c10e80b
CREATED;VALUE=DATE-TIME:20120324T000000Z
CATEGORIES:Infantils
LOCATION:Biblioteca
URL:https://www.canetdemar.cat/document.php?id=8403
END:VEVENT
END:VCALENDAR