BEGIN:VCALENDAR
VERSION:2.0
PRODID:-//Plone.org//NONSGML plone.app.event//EN
X-WR-TIMEZONE:Europe/Madrid
BEGIN:VEVENT
SUMMARY:Sorteig de regals per a petits i grans
DTSTART;TZID=Europe/Madrid;VALUE=DATE-TIME:20120105T000000
DTEND;TZID=Europe/Madrid;VALUE=DATE-TIME:20120105T010000
DTSTAMP;VALUE=DATE-TIME:20260424T040721Z
UID:b49d8aefe412e233dcf65d6bfc97aa81
CREATED;VALUE=DATE-TIME:20120105T000000Z
LOCATION:Plaça Mercat
ORGANIZER:Plaça Mercat
URL:https://www.canetdemar.cat/document.php?id=8361
END:VEVENT
END:VCALENDAR