BEGIN:VCALENDAR
VERSION:2.0
PRODID:-//Plone.org//NONSGML plone.app.event//EN
X-WR-TIMEZONE:Europe/Madrid
BEGIN:VEVENT
SUMMARY:Ball a l'envelat de Vil·la Flora
DTSTART;TZID=Europe/Madrid;VALUE=DATE-TIME:20120111T180000
DTEND;TZID=Europe/Madrid;VALUE=DATE-TIME:20120111T190000
DTSTAMP;VALUE=DATE-TIME:20260423T220357Z
UID:526fb8004513c920ef69446079819e8f
CREATED;VALUE=DATE-TIME:20120111T000000Z
LOCATION:Envelat de Vil·la Flora
ORGANIZER:Associació de Jubilats i Pensionistes de Canet de Mar - Casal de Jubilats
COMMENT:Preu: 2 euros
URL:https://www.canetdemar.cat/document.php?id=8356
END:VEVENT
END:VCALENDAR