BEGIN:VCALENDAR
VERSION:2.0
PRODID:-//Plone.org//NONSGML plone.app.event//EN
X-WR-TIMEZONE:Europe/Madrid
BEGIN:VEVENT
SUMMARY:Contes per a menuts
DTSTART;TZID=Europe/Madrid;VALUE=DATE-TIME:20120225T120000
DTEND;TZID=Europe/Madrid;VALUE=DATE-TIME:20120225T130000
DTSTAMP;VALUE=DATE-TIME:20260426T063604Z
UID:05b3ab390e8bb7ff618ad8ab5531add0
CREATED;VALUE=DATE-TIME:20120225T000000Z
CATEGORIES:Infantils
LOCATION:Biblioteca
URL:https://www.canetdemar.cat/document.php?id=8343
END:VEVENT
END:VCALENDAR