BEGIN:VCALENDAR
VERSION:2.0
PRODID:-//Plone.org//NONSGML plone.app.event//EN
X-WR-TIMEZONE:Europe/Madrid
BEGIN:VEVENT
SUMMARY:Club de Lectura: Àngels fugaços
DTSTART;TZID=Europe/Madrid;VALUE=DATE-TIME:20120217T190000
DTEND;TZID=Europe/Madrid;VALUE=DATE-TIME:20120217T200000
DTSTAMP;VALUE=DATE-TIME:20260426T031834Z
UID:6c3aec923127b4e8a172088e7a84fa3e
CREATED;VALUE=DATE-TIME:20120217T000000Z
CATEGORIES:Literatura
LOCATION:Biblioteca
ORGANIZER:Biblioteca P.Gual i Pujadas
URL:https://www.canetdemar.cat/document.php?id=8342
END:VEVENT
END:VCALENDAR