BEGIN:VCALENDAR
VERSION:2.0
PRODID:-//Plone.org//NONSGML plone.app.event//EN
X-WR-TIMEZONE:Europe/Madrid
BEGIN:VEVENT
SUMMARY:Presentació del llibre "El català em sedueix" amb el seu coordinador, en David Vila i Ros
DTSTART;TZID=Europe/Madrid;VALUE=DATE-TIME:20120302T193000
DTEND;TZID=Europe/Madrid;VALUE=DATE-TIME:20120302T203000
DTSTAMP;VALUE=DATE-TIME:20260422T202324Z
UID:4282b08bf17764214a000ff806081600
CREATED;VALUE=DATE-TIME:20120302T000000Z
CATEGORIES:Literatura
LOCATION:Aula Magna CRTTT - Escola de Teixits
ORGANIZER:Plataforma per la Llengua Canet de Mar
COMMENT:Preu: Gratuït
DESCRIPTION:53 reflexions de Tallers per la Llengua per viure millor en català
URL:https://www.canetdemar.cat/document.php?id=8305
END:VEVENT
END:VCALENDAR