BEGIN:VCALENDAR
VERSION:2.0
PRODID:-//Plone.org//NONSGML plone.app.event//EN
X-WR-TIMEZONE:Europe/Madrid
BEGIN:VEVENT
SUMMARY:Cicle de cinema sobre el medi ambient
DTSTART;TZID=Europe/Madrid;VALUE=DATE-TIME:20111215T190000
DTEND;TZID=Europe/Madrid;VALUE=DATE-TIME:20111215T200000
DTSTAMP;VALUE=DATE-TIME:20260425T181146Z
UID:0c4b9e0f5eb258881ee809c5681fd01e
CREATED;VALUE=DATE-TIME:20111215T000000Z
LOCATION:Aula Magna CRTTT - Escola de Teixits
ORGANIZER:Àrea de Medi Ambient
URL:https://www.canetdemar.cat/document.php?id=8278
END:VEVENT
END:VCALENDAR