BEGIN:VCALENDAR
VERSION:2.0
PRODID:-//Plone.org//NONSGML plone.app.event//EN
X-WR-TIMEZONE:Europe/Madrid
BEGIN:VEVENT
SUMMARY:Parc infantil i tallers de Nadal
DTSTART;TZID=Europe/Madrid;VALUE=DATE-TIME:20111227T110000
DTEND;TZID=Europe/Madrid;VALUE=DATE-TIME:20111227T120000
DTSTAMP;VALUE=DATE-TIME:20260423T132122Z
UID:f192395c40f90537e7ce3cd6ce946e5f
CREATED;VALUE=DATE-TIME:20111227T000000Z
LOCATION:Envelat de Vil·la Flora
COMMENT:Preu: entrada 1 euro
Durada: 27, 28, 29 i 30 de desembre
URL:https://www.canetdemar.cat/document.php?id=8250
END:VEVENT
END:VCALENDAR