BEGIN:VCALENDAR
VERSION:2.0
PRODID:-//Plone.org//NONSGML plone.app.event//EN
X-WR-TIMEZONE:Europe/Madrid
BEGIN:VEVENT
SUMMARY:Fem el Pessebre!
DTSTART;TZID=Europe/Madrid;VALUE=DATE-TIME:20111218T000000
DTEND;TZID=Europe/Madrid;VALUE=DATE-TIME:20111218T010000
DTSTAMP;VALUE=DATE-TIME:20260422T072301Z
UID:3da411eb692878acedcf98f162642b90
CREATED;VALUE=DATE-TIME:20111218T000000Z
LOCATION:plaça Macià
ORGANIZER:Els 9's joves de la Parròquia de Sant Pere i Sant Pau
COMMENT:Durada: durant tot el matí
URL:https://www.canetdemar.cat/document.php?id=8243
END:VEVENT
END:VCALENDAR