BEGIN:VCALENDAR
VERSION:2.0
PRODID:-//Plone.org//NONSGML plone.app.event//EN
X-WR-TIMEZONE:Europe/Madrid
BEGIN:VEVENT
SUMMARY:Audicions de Nadal  dels alumnes de l´Escola de Música
DTSTART;TZID=Europe/Madrid;VALUE=DATE-TIME:20111219T190000
DTEND;TZID=Europe/Madrid;VALUE=DATE-TIME:20111219T200000
DTSTAMP;VALUE=DATE-TIME:20260423T032101Z
UID:7e1b47cf96c17143fef950b29aa30174
CREATED;VALUE=DATE-TIME:20111219T000000Z
LOCATION:Auditori Jaume Dotras i Serrabella
ORGANIZER:Escola de Música
COMMENT:Durada: del 19 al 22 de desembre
URL:https://www.canetdemar.cat/document.php?id=8241
END:VEVENT
END:VCALENDAR