BEGIN:VCALENDAR
VERSION:2.0
PRODID:-//Plone.org//NONSGML plone.app.event//EN
X-WR-TIMEZONE:Europe/Madrid
BEGIN:VEVENT
SUMMARY:Audició de combos de l´Escola de Música
DTSTART;TZID=Europe/Madrid;VALUE=DATE-TIME:20111216T193000
DTEND;TZID=Europe/Madrid;VALUE=DATE-TIME:20111216T203000
DTSTAMP;VALUE=DATE-TIME:20260425T181215Z
UID:22bfa55c95054964452bea59f9bec6c0
CREATED;VALUE=DATE-TIME:20111216T000000Z
LOCATION:Restaurant de la piscina municipal La Menta
ORGANIZER:Escola de Música
URL:https://www.canetdemar.cat/document.php?id=8240
END:VEVENT
END:VCALENDAR