BEGIN:VCALENDAR
VERSION:2.0
PRODID:-//Plone.org//NONSGML plone.app.event//EN
X-WR-TIMEZONE:Europe/Madrid
BEGIN:VEVENT
SUMMARY:Sessió informativa sobre l'etiquetatge de carn de vacum i de peix
DTSTART;TZID=Europe/Madrid;VALUE=DATE-TIME:20111107T000000
DTEND;TZID=Europe/Madrid;VALUE=DATE-TIME:20111107T010000
DTSTAMP;VALUE=DATE-TIME:20260422T200841Z
UID:8b06f803ca3857604cda614482c70f16
CREATED;VALUE=DATE-TIME:20111107T000000Z
LOCATION:Aula Magna CRTTT - Escola de Teixits
ORGANIZER:Àrea de Promoció Econòmica
URL:https://www.canetdemar.cat/document.php?id=8167
END:VEVENT
END:VCALENDAR