BEGIN:VCALENDAR
VERSION:2.0
PRODID:-//Plone.org//NONSGML plone.app.event//EN
X-WR-TIMEZONE:Europe/Madrid
BEGIN:VEVENT
SUMMARY:Hora del conte
DTSTART;TZID=Europe/Madrid;VALUE=DATE-TIME:20111126T120000
DTEND;TZID=Europe/Madrid;VALUE=DATE-TIME:20111126T130000
DTSTAMP;VALUE=DATE-TIME:20260422T072942Z
UID:a9f4211db1a706f836bb25901da1d3af
CREATED;VALUE=DATE-TIME:20111126T000000Z
CATEGORIES:Infantils
LOCATION:Biblioteca
URL:https://www.canetdemar.cat/document.php?id=8161
END:VEVENT
END:VCALENDAR