BEGIN:VCALENDAR
VERSION:2.0
PRODID:-//Plone.org//NONSGML plone.app.event//EN
X-WR-TIMEZONE:Europe/Madrid
BEGIN:VEVENT
SUMMARY:Sortida al monestir de Sant Cugat
DTSTART;TZID=Europe/Madrid;VALUE=DATE-TIME:20111124T000000
DTEND;TZID=Europe/Madrid;VALUE=DATE-TIME:20111124T010000
DTSTAMP;VALUE=DATE-TIME:20260424T112046Z
UID:79f2d723e8902243cf9827451071abd0
CREATED;VALUE=DATE-TIME:20111124T000000Z
LOCATION:Esplai de la gent gran
ORGANIZER:Esplai de la gent gran
COMMENT:Preu: 39 euros
URL:https://www.canetdemar.cat/document.php?id=8155
END:VEVENT
END:VCALENDAR