BEGIN:VCALENDAR
VERSION:2.0
PRODID:-//Plone.org//NONSGML plone.app.event//EN
X-WR-TIMEZONE:Europe/Madrid
BEGIN:VEVENT
SUMMARY:Conferència: Quan acaba una vida en comencen sis, per la regeneració i transplantaments d'òrgans i teixits
DTSTART;TZID=Europe/Madrid;VALUE=DATE-TIME:20111216T183000
DTEND;TZID=Europe/Madrid;VALUE=DATE-TIME:20111216T193000
DTSTAMP;VALUE=DATE-TIME:20260423T032045Z
UID:220b3636fe53d2ffe8e4c3f15d95f58d
CREATED;VALUE=DATE-TIME:20111216T000000Z
CATEGORIES:Conferència
LOCATION:Aula Magna CRTTT - Escola de Teixits
ORGANIZER:Sàlvia, Associació de dones de Canet de Mar
COMMENT:Preu: Gratuït
DESCRIPTION:Marató TV3 - 2011 Transplantaments
URL:https://www.canetdemar.cat/document.php?id=8140
END:VEVENT
END:VCALENDAR