BEGIN:VCALENDAR
VERSION:2.0
PRODID:-//Plone.org//NONSGML plone.app.event//EN
X-WR-TIMEZONE:Europe/Madrid
BEGIN:VEVENT
SUMMARY:Excursió: Sitges i gran bufet a Cunit
DTSTART;TZID=Europe/Madrid;VALUE=DATE-TIME:20111103T083000
DTEND;TZID=Europe/Madrid;VALUE=DATE-TIME:20111103T093000
DTSTAMP;VALUE=DATE-TIME:20260423T013835Z
UID:588c784a42ab8cbce94a23152d16b0f2
CREATED;VALUE=DATE-TIME:20111103T000000Z
LOCATION:Parada bus Comediants
ORGANIZER:Associació de Jubilats i Pensionistes de Canet
COMMENT:Preu: 36,50 euros
URL:https://www.canetdemar.cat/document.php?id=8137
END:VEVENT
END:VCALENDAR