BEGIN:VCALENDAR
VERSION:2.0
PRODID:-//Plone.org//NONSGML plone.app.event//EN
X-WR-TIMEZONE:Europe/Madrid
BEGIN:VEVENT
SUMMARY:Festa poètica
DTSTART;TZID=Europe/Madrid;VALUE=DATE-TIME:20111106T120000
DTEND;TZID=Europe/Madrid;VALUE=DATE-TIME:20111106T130000
DTSTAMP;VALUE=DATE-TIME:20260425T204346Z
UID:a599c75d78be52730b6404eb84f97293
CREATED;VALUE=DATE-TIME:20111106T000000Z
CATEGORIES:Literatura
LOCATION:Plaça Manén
ORGANIZER:Sàlvia
COMMENT:Preu: gratuït
DESCRIPTION:Lliurament de premis del VIII Certamen Premis Sàlvia de Poesia
URL:https://www.canetdemar.cat/document.php?id=8124
END:VEVENT
END:VCALENDAR