BEGIN:VCALENDAR
VERSION:2.0
PRODID:-//Plone.org//NONSGML plone.app.event//EN
X-WR-TIMEZONE:Europe/Madrid
BEGIN:VEVENT
SUMMARY:Contes de la Bressola amb Enric Larreula
DTSTART;TZID=Europe/Madrid;VALUE=DATE-TIME:20111119T120000
DTEND;TZID=Europe/Madrid;VALUE=DATE-TIME:20111119T130000
DTSTAMP;VALUE=DATE-TIME:20260424T212143Z
UID:8383372345241255a34fb238218f3a8a
CREATED;VALUE=DATE-TIME:20111119T000000Z
CATEGORIES:Infantils
LOCATION:Biblioteca
ORGANIZER:Plataforma per la Llengua Canet de Mar
URL:https://www.canetdemar.cat/document.php?id=8113
END:VEVENT
END:VCALENDAR