BEGIN:VCALENDAR
VERSION:2.0
PRODID:-//Plone.org//NONSGML plone.app.event//EN
X-WR-TIMEZONE:Europe/Madrid
BEGIN:VEVENT
SUMMARY:Ball a l'esplai
DTSTART;TZID=Europe/Madrid;VALUE=DATE-TIME:20111023T180000
DTEND;TZID=Europe/Madrid;VALUE=DATE-TIME:20111023T190000
DTSTAMP;VALUE=DATE-TIME:20260425T020612Z
UID:1b7dffd45315c6d90cd32d33eaab4da2
CREATED;VALUE=DATE-TIME:20111023T000000Z
LOCATION:Esplai de la gent gran
ORGANIZER:Esplai de la gent gran
COMMENT:Preu: 2 euros
URL:https://www.canetdemar.cat/document.php?id=8071
END:VEVENT
END:VCALENDAR