BEGIN:VCALENDAR
VERSION:2.0
PRODID:-//Plone.org//NONSGML plone.app.event//EN
X-WR-TIMEZONE:Europe/Madrid
BEGIN:VEVENT
SUMMARY:Hora del conte
DTSTART;TZID=Europe/Madrid;VALUE=DATE-TIME:20111008T120000
DTEND;TZID=Europe/Madrid;VALUE=DATE-TIME:20111008T130000
DTSTAMP;VALUE=DATE-TIME:20260422T234838Z
UID:73f029b459d98fe443221889e872f1e9
CREATED;VALUE=DATE-TIME:20111008T000000Z
CATEGORIES:Infantils
LOCATION:Biblioteca P.Gual i Pujadas
URL:https://www.canetdemar.cat/document.php?id=8064
END:VEVENT
END:VCALENDAR