BEGIN:VCALENDAR
VERSION:2.0
PRODID:-//Plone.org//NONSGML plone.app.event//EN
X-WR-TIMEZONE:Europe/Madrid
BEGIN:VEVENT
SUMMARY:Teatre: Gente bien, de Santiago Rusiñol
DTSTART;TZID=Europe/Madrid;VALUE=DATE-TIME:20110918T000000
DTEND;TZID=Europe/Madrid;VALUE=DATE-TIME:20110918T010000
DTSTAMP;VALUE=DATE-TIME:20260423T120727Z
UID:12f7432108fbbab43b0f28bb756d2081
CREATED;VALUE=DATE-TIME:20110918T000000Z
DESCRIPTION:4a Fira Mercat Modernista
URL:https://www.canetdemar.cat/document.php?id=8051
END:VEVENT
END:VCALENDAR