BEGIN:VCALENDAR
VERSION:2.0
PRODID:-//Plone.org//NONSGML plone.app.event//EN
X-WR-TIMEZONE:Europe/Madrid
BEGIN:VEVENT
SUMMARY:Teatre: Gente bien, de Santiago Rusiñol
DTSTART;TZID=Europe/Madrid;VALUE=DATE-TIME:20110917T230000
DTEND;TZID=Europe/Madrid;VALUE=DATE-TIME:20110918T000000
DTSTAMP;VALUE=DATE-TIME:20260421T220738Z
UID:5c6ad3c6c9b065a44122774bc2e24fbd
CREATED;VALUE=DATE-TIME:20110917T000000Z
LOCATION:Centre Parroquial  c/ Eusebi Golart
ORGANIZER:Grup de Teatre del Centre Parroquial
DESCRIPTION:4a Fira Mercat Modernista
URL:https://www.canetdemar.cat/document.php?id=8050
END:VEVENT
END:VCALENDAR