BEGIN:VCALENDAR
VERSION:2.0
PRODID:-//Plone.org//NONSGML plone.app.event//EN
X-WR-TIMEZONE:Europe/Madrid
BEGIN:VEVENT
SUMMARY:Anem al programa de TV3, Els divendres
DTSTART;TZID=Europe/Madrid;VALUE=DATE-TIME:20111027T133000
DTEND;TZID=Europe/Madrid;VALUE=DATE-TIME:20111027T143000
DTSTAMP;VALUE=DATE-TIME:20260424T063524Z
UID:504f207ddbef7fcb6951f622f9237072
CREATED;VALUE=DATE-TIME:20111027T000000Z
LOCATION:sortida: parada bus Comediants
COMMENT:Preu: gratuït
URL:https://www.canetdemar.cat/document.php?id=8030
END:VEVENT
END:VCALENDAR