BEGIN:VCALENDAR
VERSION:2.0
PRODID:-//Plone.org//NONSGML plone.app.event//EN
X-WR-TIMEZONE:Europe/Madrid
BEGIN:VEVENT
SUMMARY:Ball a Vil·la Flora
DTSTART;TZID=Europe/Madrid;VALUE=DATE-TIME:20110914T180000
DTEND;TZID=Europe/Madrid;VALUE=DATE-TIME:20110914T190000
DTSTAMP;VALUE=DATE-TIME:20260423T101737Z
UID:fc4c8dfa79c00efc4c9f940c39aff744
CREATED;VALUE=DATE-TIME:20110914T000000Z
LOCATION:Vil·la Flora
ORGANIZER:Ass. Jubilats i Pensionistes de Canet de Mar
COMMENT:Preu: gratuït
Durada: de 18.00 a 20.00 hores
URL:https://www.canetdemar.cat/document.php?id=8025
END:VEVENT
END:VCALENDAR