BEGIN:VCALENDAR
VERSION:2.0
PRODID:-//Plone.org//NONSGML plone.app.event//EN
X-WR-TIMEZONE:Europe/Madrid
BEGIN:VEVENT
SUMMARY:Sortida a la Sagrada Família i bon dinar de buffet
DTSTART;TZID=Europe/Madrid;VALUE=DATE-TIME:20110914T090000
DTEND;TZID=Europe/Madrid;VALUE=DATE-TIME:20110914T100000
DTSTAMP;VALUE=DATE-TIME:20260424T071609Z
UID:3a99b8b0c33f4b7394e08502018a14a6
CREATED;VALUE=DATE-TIME:20110914T000000Z
LOCATION:Parada bus Comediants
ORGANIZER:Esplai de la gent gran
COMMENT:Preu: 42 euros. Autocar, visita guiada a la Sagrada Família, dinar a Vallirana i ball
URL:https://www.canetdemar.cat/document.php?id=8008
END:VEVENT
END:VCALENDAR