BEGIN:VCALENDAR
VERSION:2.0
PRODID:-//Plone.org//NONSGML plone.app.event//EN
X-WR-TIMEZONE:Europe/Madrid
BEGIN:VEVENT
SUMMARY:Sortida a la Sagrada Família i bon dinar de buffet
DTSTART;TZID=Europe/Madrid;VALUE=DATE-TIME:20110927T090000
DTEND;TZID=Europe/Madrid;VALUE=DATE-TIME:20110927T100000
DTSTAMP;VALUE=DATE-TIME:20260424T175849Z
UID:fbcade634ec91c3b0cf349a568bb6fc5
CREATED;VALUE=DATE-TIME:20110927T000000Z
LOCATION:Parada bus Comediants - 42 euros. Autocar, visita guiada a la Sagrada Família, dinar a Vallirana i ball
ORGANIZER:Esplai de la gent gran
URL:https://www.canetdemar.cat/document.php?id=8007
END:VEVENT
END:VCALENDAR