BEGIN:VCALENDAR
VERSION:2.0
PRODID:-//Plone.org//NONSGML plone.app.event//EN
X-WR-TIMEZONE:Europe/Madrid
BEGIN:VEVENT
SUMMARY:Ball a l´Esplai
DTSTART;TZID=Europe/Madrid;VALUE=DATE-TIME:20110925T180000
DTEND;TZID=Europe/Madrid;VALUE=DATE-TIME:20110925T190000
DTSTAMP;VALUE=DATE-TIME:20260426T063815Z
UID:b374f879b342eee2749d83676cc79e94
CREATED;VALUE=DATE-TIME:20110925T000000Z
LOCATION:Esplai de la gent gran
COMMENT:Preu: 2 euros
Durada: Esplai de la gent gran
URL:https://www.canetdemar.cat/document.php?id=8006
END:VEVENT
END:VCALENDAR